BEGIN:VCALENDAR
VERSION:2.0
PRODID:-//Heimatkreis Herrnsheim e. V. - ECPv6.15.20//NONSGML v1.0//EN
CALSCALE:GREGORIAN
METHOD:PUBLISH
X-WR-CALNAME:Heimatkreis Herrnsheim e. V.
X-ORIGINAL-URL:http://heimatkreis-herrnsheim.de
X-WR-CALDESC:Veranstaltungen für Heimatkreis Herrnsheim e. V.
REFRESH-INTERVAL;VALUE=DURATION:PT1H
X-Robots-Tag:noindex
X-PUBLISHED-TTL:PT1H
BEGIN:VTIMEZONE
TZID:Europe/Berlin
BEGIN:DAYLIGHT
TZOFFSETFROM:+0100
TZOFFSETTO:+0200
TZNAME:CEST
DTSTART:20250330T010000
END:DAYLIGHT
BEGIN:STANDARD
TZOFFSETFROM:+0200
TZOFFSETTO:+0100
TZNAME:CET
DTSTART:20251026T010000
END:STANDARD
BEGIN:DAYLIGHT
TZOFFSETFROM:+0100
TZOFFSETTO:+0200
TZNAME:CEST
DTSTART:20260329T010000
END:DAYLIGHT
BEGIN:STANDARD
TZOFFSETFROM:+0200
TZOFFSETTO:+0100
TZNAME:CET
DTSTART:20261025T010000
END:STANDARD
BEGIN:DAYLIGHT
TZOFFSETFROM:+0100
TZOFFSETTO:+0200
TZNAME:CEST
DTSTART:20270328T010000
END:DAYLIGHT
BEGIN:STANDARD
TZOFFSETFROM:+0200
TZOFFSETTO:+0100
TZNAME:CET
DTSTART:20271031T010000
END:STANDARD
END:VTIMEZONE
BEGIN:VEVENT
DTSTART;VALUE=DATE:20260425
DTEND;VALUE=DATE:20260426
DTSTAMP:20260420T055837
CREATED:20260228T080737Z
LAST-MODIFIED:20260228T080737Z
UID:658-1777075200-1777161599@heimatkreis-herrnsheim.de
SUMMARY:Flohmarkt am Badesee
DESCRIPTION:
URL:http://heimatkreis-herrnsheim.de/event/flohmarkt-am-badesee/
LOCATION:Badesee Herrnsheim
END:VEVENT
BEGIN:VEVENT
DTSTART;VALUE=DATE:20260509
DTEND;VALUE=DATE:20260510
DTSTAMP:20260420T055837
CREATED:20260228T080832Z
LAST-MODIFIED:20260228T080832Z
UID:660-1778284800-1778371199@heimatkreis-herrnsheim.de
SUMMARY:SPD Kinderfest
DESCRIPTION:
URL:http://heimatkreis-herrnsheim.de/event/spd-kinderfest/
LOCATION:Storchenturm Herrnsheim
END:VEVENT
BEGIN:VEVENT
DTSTART;VALUE=DATE:20260510
DTEND;VALUE=DATE:20260511
DTSTAMP:20260420T055837
CREATED:20260406T093543Z
LAST-MODIFIED:20260406T094201Z
UID:699-1778371200-1778457599@heimatkreis-herrnsheim.de
SUMMARY:Sonntagskonzert - Luz del Alva
DESCRIPTION:Start: 11 Uhr
URL:http://heimatkreis-herrnsheim.de/event/sonntagskonzert-im-storchenturm/
LOCATION:Storchenturm Herrnsheim
END:VEVENT
BEGIN:VEVENT
DTSTART;VALUE=DATE:20260529
DTEND;VALUE=DATE:20260906
DTSTAMP:20260420T055837
CREATED:20260228T081023Z
LAST-MODIFIED:20260228T081023Z
UID:664-1780012800-1788652799@heimatkreis-herrnsheim.de
SUMMARY:Badesaison
DESCRIPTION:
URL:http://heimatkreis-herrnsheim.de/event/badesaison/
LOCATION:Badesee Herrnsheim
END:VEVENT
BEGIN:VEVENT
DTSTART;VALUE=DATE:20260612
DTEND;VALUE=DATE:20260613
DTSTAMP:20260420T055837
CREATED:20260228T081113Z
LAST-MODIFIED:20260228T081113Z
UID:666-1781222400-1781308799@heimatkreis-herrnsheim.de
SUMMARY:Jazzsoirée
DESCRIPTION:
URL:http://heimatkreis-herrnsheim.de/event/jazzsoiree/
LOCATION:Weingut HJ Müsel
END:VEVENT
BEGIN:VEVENT
DTSTART;VALUE=DATE:20260906
DTEND;VALUE=DATE:20260907
DTSTAMP:20260420T055837
CREATED:20260228T081246Z
LAST-MODIFIED:20260228T081309Z
UID:671-1788652800-1788739199@heimatkreis-herrnsheim.de
SUMMARY:Herbstausflug
DESCRIPTION:
URL:http://heimatkreis-herrnsheim.de/event/herbstausflug/
END:VEVENT
BEGIN:VEVENT
DTSTART;VALUE=DATE:20260926
DTEND;VALUE=DATE:20260927
DTSTAMP:20260420T055837
CREATED:20260228T081342Z
LAST-MODIFIED:20260228T081342Z
UID:673-1790380800-1790467199@heimatkreis-herrnsheim.de
SUMMARY:Flohmarkt am Badesee
DESCRIPTION:
URL:http://heimatkreis-herrnsheim.de/event/flohmarkt-am-badesee-2/
LOCATION:Badesee Herrnsheim
END:VEVENT
BEGIN:VEVENT
DTSTART;TZID=Europe/Berlin:20260927T150000
DTEND;TZID=Europe/Berlin:20260927T170000
DTSTAMP:20260420T055837
CREATED:20260318T171617Z
LAST-MODIFIED:20260318T173737Z
UID:682-1790521200-1790528400@heimatkreis-herrnsheim.de
SUMMARY:Familienfest
DESCRIPTION:
URL:http://heimatkreis-herrnsheim.de/event/nabu-familienfest-2/
LOCATION:Badesee Herrnsheim
END:VEVENT
BEGIN:VEVENT
DTSTART;VALUE=DATE:20261129
DTEND;VALUE=DATE:20261130
DTSTAMP:20260420T055837
CREATED:20260228T081419Z
LAST-MODIFIED:20260228T081419Z
UID:675-1795910400-1795996799@heimatkreis-herrnsheim.de
SUMMARY:Weihnachtskaffee
DESCRIPTION:
URL:http://heimatkreis-herrnsheim.de/event/weihnachtskaffee/
END:VEVENT
END:VCALENDAR